BEGIN:VCALENDAR
VERSION:2.0
PRODID:-//GreenGLAM - ECPv6.15.11//NONSGML v1.0//EN
CALSCALE:GREGORIAN
METHOD:PUBLISH
X-ORIGINAL-URL:https://greenglam.at/en
X-WR-CALDESC:Events for GreenGLAM
REFRESH-INTERVAL;VALUE=DURATION:PT1H
X-Robots-Tag:noindex
X-PUBLISHED-TTL:PT1H
BEGIN:VTIMEZONE
TZID:UTC
BEGIN:STANDARD
TZOFFSETFROM:+0000
TZOFFSETTO:+0000
TZNAME:UTC
DTSTART:20240101T000000
END:STANDARD
END:VTIMEZONE
BEGIN:VEVENT
DTSTART;TZID=UTC:20250617T090000
DTEND;TZID=UTC:20250617T110000
DTSTAMP:20260422T094340
CREATED:20250526T135417Z
LAST-MODIFIED:20250528T122151Z
UID:1183-1750150800-1750158000@greenglam.at
SUMMARY:Stakeholder-Forum
DESCRIPTION:Am 17. Juni 2025 startet GreenGLAM mit dem ersten Stakeholder Forum im DIO Office. Die Initiative setzt auf innovative KI- und datengetriebene Ansätze\, um Museen\, Bibliotheken\, Archive und Galerien dabei zu unterstützen\, ihre Rolle in der Nachhaltigkeit und den SDGs weiterzuentwickeln. \nDie Veranstaltung bietet Einblicke in KI-gestützte Analysen\, ein interaktives Dashboard sowie virtuelle Daten-Skulpturen\, die SDG-Aktivitäten sichtbar machen. Neben Fachinputs stehen Vernetzung & Austausch mit Vertreter:innen aus Kultur\, Wissenschaft und Technologie im Fokus. \nOrt: DIO – Data Intelligence Offensive\, Hintere Zollamtstrasse 17/3. OG\, 1030 Wien \n  \nJetzt anmelden! Kontakt: events@dataintelligence.at \n 
URL:https://greenglam.at/en/event/greenglam-stakeholder-forum-nachhaltigkeit-im-kulturbereich/
LOCATION:Hintere Zollamtstrasse 17/3.OG
CATEGORIES:Events,Upcoming Events
ATTACH;FMTTYPE=image/jpeg:https://greenglam.at/wp-content/uploads/2025/05/GreenGLAM-4.jpg
END:VEVENT
BEGIN:VEVENT
DTSTART;VALUE=DATE:20250915
DTEND;VALUE=DATE:20250918
DTSTAMP:20260422T094340
CREATED:20241202T105038Z
LAST-MODIFIED:20241202T123530Z
UID:1070-1757894400-1758153599@greenglam.at
SUMMARY:Eighteenth International Conference on the Inclusive Museum
DESCRIPTION:Die 18. Internationale Konferenz zum Thema Inclusive Museum findet vom 15. bis 17. September 2025 an der Universität San Jorge in Zaragoza\, Spanien\, statt. \nIm Mittelpunkt steht die Rolle von Museen\, Galerien und Archiven als Motoren für Innovation und soziale Teilhabe. Diskutiert werden Themen wie Besucher:innen\, Sammlungen und Repräsentation\, ergänzt durch einen speziellen Fokus auf die Bedeutung von Inklusion in der Museumswelt. Die Konferenz bringt Expert:innen zusammen\, um interdisziplinäre Strategien für eine zukunftsorientierte und inklusive Museumsarbeit zu entwickeln. \nMehr erfahren
URL:https://greenglam.at/en/event/eighteenth-international-conference-on-the-inclusive-museum/
LOCATION:University of San Jorge\, Zaragoza\, Spain\, Zaragoza\, Spain
CATEGORIES:Events,Upcoming Events
ATTACH;FMTTYPE=image/png:https://greenglam.at/wp-content/uploads/2024/12/GreenGlam_1-e1733136620297.png
END:VEVENT
BEGIN:VEVENT
DTSTART;VALUE=DATE:20251102
DTEND;VALUE=DATE:20251105
DTSTAMP:20260422T094340
CREATED:20250804T151052Z
LAST-MODIFIED:20250804T151052Z
UID:1223-1762041600-1762300799@greenglam.at
SUMMARY:IEEE VIS 2025
DESCRIPTION:Die IEEE VIS Conference gilt als das weltweit wichtigste Forum für Fortschritte in der Datenvisualisierung und Visual Analytics. Vom 2. bis 7. November 2025 findet diese prestigeträchtige Veranstaltung zum ersten Mal in Wien statt und bringt die internationale Forschungsgemeinschaft in die österreichische Hauptstadt. \nDas vielfältige Programm startet bereits am Samstag mit dem Doctoral Colloquium an der TU Wien\, wo Nachwuchsforschende ihre Arbeiten präsentieren. Die ersten beiden Konferenztage widmen sich intensiv spezialisierten Workshops und Tutorials zu aktuellen Themen wie KI-Erklärbarkeit\, Immersive Analytics und der Rolle von Generative AI in der Visualisierung. \nDer offizielle Konferenzauftakt erfolgt am Dienstag mit der Eröffnungsfeier und einer hochkarätigen Keynote\, gefolgt von den Präsentationen der besten eingereichten Papers. Ein besonderes Highlight bildet die Welcome Reception im ehrwürdigen Naturhistorischen Museum Wien\, wo sich die Teilnehmenden in historischem Ambiente vernetzen können. \nDas Conference Dinner am Mittwoch im Austria Center Vienna und die VISAP Exhibition an der Universität für angewandte Kunst zeigen die kulturelle Vielfalt Wiens. Den krönenden Abschluss bildet die Capstone Keynote von Theo Deutinger\, der die Ursprünge der Datenvisualisierung und deren gesellschaftlichen Einfluss beleuchten wird.
URL:https://greenglam.at/en/event/ieee-vis-2025/
LOCATION:Wien
CATEGORIES:Events,Upcoming Events
ATTACH;FMTTYPE=image/jpeg:https://greenglam.at/wp-content/uploads/2025/08/Vorlage-DIO-Events-1024x576-14.jpg
END:VEVENT
BEGIN:VEVENT
DTSTART;VALUE=DATE:20251103
DTEND;VALUE=DATE:20251106
DTSTAMP:20260422T094340
CREATED:20250804T153422Z
LAST-MODIFIED:20250804T154422Z
UID:1226-1762128000-1762387199@greenglam.at
SUMMARY:CHNT30
DESCRIPTION:Die Konferenz für Kulturerbe und Neue Technologien (CHNT) feiert 2025 ihr 30-jähriges Bestehen als führende internationale Plattform für die Verbindung von Kulturerbe-Bewahrung und innovativer Technologie. Seit der Gründung durch Wolfgang Börner und der ursprünglichen Organisation durch die Stadtarchäologie Wien hat sich CHNT zu einem renommierten internationalen Event entwickelt\, das den interdisziplinären Austausch in Dokumentation\, Forschung\, Management und Konservierung des Kulturerbes fördert. \nMit dem Übergang zu ICOMOS Österreich und der Unterstützung durch die österreichische Koordinationsstelle für Welterbe beginnt eine neue Ära. Der erweiterte Fokus umfasst nun Welterbe-Forschung\, -Management und -Schutz\, während gleichzeitig digitale Anwendungen und technologische Lösungen für das Kulturerbe erforscht werden. \nDie Konferenz verbindet innovative Forschung mit praktischen Anwendungen und stellt sicher\, dass neue Technologien zugänglich und wirkungsvoll sind. Jährlich versammelt sich eine vielfältige Gemeinschaft aus Experten\, Praktikern und Entscheidungsträgern\, um die Zukunft der Kulturerbe-Bewahrung im digitalen Zeitalter zu gestalten.
URL:https://greenglam.at/en/event/chnt30/
LOCATION:Wien
CATEGORIES:Events,Upcoming Events
ATTACH;FMTTYPE=image/jpeg:https://greenglam.at/wp-content/uploads/2025/08/Vorlage-DIO-Events-1024x576-14-1.jpg
END:VEVENT
BEGIN:VEVENT
DTSTART;TZID=UTC:20251118T103000
DTEND;TZID=UTC:20251118T143000
DTSTAMP:20260422T094340
CREATED:20251020T081236Z
LAST-MODIFIED:20251020T081431Z
UID:1256-1763461800-1763476200@greenglam.at
SUMMARY:#digiRoundtable
DESCRIPTION:#digiRoundtable – digitale Transformation des Natur-\, Kultur- und Kunsterbes in Österreich\n18. November 2025 – organisiert vom Museumsbund Österreich \nWir freuen uns sehr\, dass wir beim nächsten #digiRoundtable des Museumsbund Österreich unser Projekt GreenGLAM vorstellen dürfen! \nDer Roundtable steht ganz im Zeichen der digitalen Transformation des Natur-\, Kultur- und Kunsterbes in Österreich und bietet einen Überblick über neue Projekte\, Initiativen und Ideen\, die den digitalen Wandel aktiv mitgestalten. \nIm Rahmen der Veranstaltung werden die Partner Modul Technology\, OpenGLAM.at und VRVis das Projekt GreenGLAM vorstellen und Einblicke in unsere Ziele und bisherigen Entwicklungen und Meilensteine geben.GreenGLAM beschäftigt sich mit der Frage\, wie Nachhaltigkeit und Digitalisierung im GLAM-Sektor (Galleries\, Libraries\, Archives\, Museums) sinnvoll zusammengedacht werden können – von energieeffizienter Dateninfrastruktur über nachhaltige digitale Strategien bis hin zu kollaborativen Ansätzen\, die Ressourcen schonen und Wissen offen zugänglich machen. Zentraler Bestandteil ist die Entwicklung interaktiver\, KI-generierter „virtueller Datenskulpturen“\, die mit AR-Technologie SDGs der GLAMs sichtbar und erlebbar gemacht werden. \nWir freuen uns auf den Austausch mit der Community und auf viele inspirierende Projekte rund um: \ndigitale Zugänglichkeit und Vermittlung kulturellen Erbes \nKI-gestützte Anwendungen im Museums- und Denkmalbereich \npartizipative\, inklusive und nachhaltige digitale Strategien \ninnovative Formen der Datenvisualisierung und Vernetzung
URL:https://greenglam.at/en/event/digiroundtable/
LOCATION:MAK – Museum für Angewandte Kunst\, Stubenring 5\, Wien\, Wien\, 1010\, Austria
CATEGORIES:Upcoming Events
ATTACH;FMTTYPE=image/jpeg:https://greenglam.at/wp-content/uploads/2025/10/iot-technology-concept-city-transport-smart-1575607-pxhere.jpg
END:VEVENT
BEGIN:VEVENT
DTSTART;VALUE=DATE:20251125
DTEND;VALUE=DATE:20251128
DTSTAMP:20260422T094340
CREATED:20250804T143750Z
LAST-MODIFIED:20250804T144116Z
UID:1212-1764028800-1764287999@greenglam.at
SUMMARY:IConCMT 2025
DESCRIPTION:7. Internationale Konferenz für Creative\Media/Technologies\nIConCMT fördert gezielt den interdisziplinären Dialog zwischen Medien\, Technologie\, Kreativdesign sowie gesellschaftlichen\, kulturellen und wirtschaftlichen Rahmenbedingungen. Ziel ist es\, innovative Synergien durch breit gefächerten Austausch zu schaffen – die Konferenz bietet dafür ein dynamisches Forum für Forscher:innen\, Designer:innen und Praktiker:innen. \nSchwerpunkte 2025\n\n15 Jahre digitale (Rück‑)EntwicklungHistorische Betrachtungen sowie aktuelle Trends und Entwicklungen digitaler Kultur\nAnwendungen von KI\, AI\, XR\, VR & ARNutzerorientierte Projekte in Gesundheit\, Industrie\, Kunst und Medien\nMedia Frames in KrisenzeitenNarrative und Kommunikationsstrategien angesichts Krieg\, Klimawandel\, Demokratiebedrohungen\nSonifikation & interaktives AudioForschung rund um Datenklang\, räumliches Audio\, akustische Feedback‑ und Erlebnisgestaltung\nUser Experience in Kunst & KulturEmpirische Studien zur technologischen Transformation von Besuchserlebnissen (Museen\, Festivals\, Tourismus etc.)
URL:https://greenglam.at/en/event/1212/
LOCATION:Wien
CATEGORIES:Events
ATTACH;FMTTYPE=image/jpeg:https://greenglam.at/wp-content/uploads/2025/08/Vorlage-DIO-Events-1024x576-13.jpg
END:VEVENT
END:VCALENDAR